BEGIN:VCALENDAR
VERSION:2.0
PRODID:-//Live 4 Christ Networks - ECPv6.15.20//NONSGML v1.0//EN
CALSCALE:GREGORIAN
METHOD:PUBLISH
X-ORIGINAL-URL:https://live4christnetworks.com
X-WR-CALDESC:Events for Live 4 Christ Networks
REFRESH-INTERVAL;VALUE=DURATION:PT1H
X-Robots-Tag:noindex
X-PUBLISHED-TTL:PT1H
BEGIN:VTIMEZONE
TZID:America/New_York
BEGIN:DAYLIGHT
TZOFFSETFROM:-0500
TZOFFSETTO:-0400
TZNAME:EDT
DTSTART:20150308T070000
END:DAYLIGHT
BEGIN:STANDARD
TZOFFSETFROM:-0400
TZOFFSETTO:-0500
TZNAME:EST
DTSTART:20151101T060000
END:STANDARD
BEGIN:DAYLIGHT
TZOFFSETFROM:-0500
TZOFFSETTO:-0400
TZNAME:EDT
DTSTART:20160313T070000
END:DAYLIGHT
BEGIN:STANDARD
TZOFFSETFROM:-0400
TZOFFSETTO:-0500
TZNAME:EST
DTSTART:20161106T060000
END:STANDARD
BEGIN:DAYLIGHT
TZOFFSETFROM:-0500
TZOFFSETTO:-0400
TZNAME:EDT
DTSTART:20170312T070000
END:DAYLIGHT
BEGIN:STANDARD
TZOFFSETFROM:-0400
TZOFFSETTO:-0500
TZNAME:EST
DTSTART:20171105T060000
END:STANDARD
BEGIN:DAYLIGHT
TZOFFSETFROM:-0500
TZOFFSETTO:-0400
TZNAME:EDT
DTSTART:20180311T070000
END:DAYLIGHT
BEGIN:STANDARD
TZOFFSETFROM:-0400
TZOFFSETTO:-0500
TZNAME:EST
DTSTART:20181104T060000
END:STANDARD
BEGIN:DAYLIGHT
TZOFFSETFROM:-0500
TZOFFSETTO:-0400
TZNAME:EDT
DTSTART:20190310T070000
END:DAYLIGHT
BEGIN:STANDARD
TZOFFSETFROM:-0400
TZOFFSETTO:-0500
TZNAME:EST
DTSTART:20191103T060000
END:STANDARD
BEGIN:DAYLIGHT
TZOFFSETFROM:-0500
TZOFFSETTO:-0400
TZNAME:EDT
DTSTART:20200308T070000
END:DAYLIGHT
BEGIN:STANDARD
TZOFFSETFROM:-0400
TZOFFSETTO:-0500
TZNAME:EST
DTSTART:20201101T060000
END:STANDARD
BEGIN:DAYLIGHT
TZOFFSETFROM:-0500
TZOFFSETTO:-0400
TZNAME:EDT
DTSTART:20210314T070000
END:DAYLIGHT
BEGIN:STANDARD
TZOFFSETFROM:-0400
TZOFFSETTO:-0500
TZNAME:EST
DTSTART:20211107T060000
END:STANDARD
BEGIN:DAYLIGHT
TZOFFSETFROM:-0500
TZOFFSETTO:-0400
TZNAME:EDT
DTSTART:20220313T070000
END:DAYLIGHT
BEGIN:STANDARD
TZOFFSETFROM:-0400
TZOFFSETTO:-0500
TZNAME:EST
DTSTART:20221106T060000
END:STANDARD
END:VTIMEZONE
BEGIN:VEVENT
DTSTART;TZID=America/New_York:20210302T080000
DTEND;TZID=America/New_York:20210302T170000
DTSTAMP:20260423T031953
CREATED:20210302T053118Z
LAST-MODIFIED:20210719T081447Z
UID:8288-1614672000-1614704400@live4christnetworks.com
SUMMARY:StarSpot Season 2
DESCRIPTION:Share this:Share\n				Share on Facebook (Opens in new window)\n				Facebook\n			\n				Share on X (Opens in new window)\n				X\n			\n				Share on LinkedIn (Opens in new window)\n				LinkedIn\n			\n				Share on Tumblr (Opens in new window)\n				Tumblr\n			\n				Email a link to a friend (Opens in new window)\n				Email
URL:https://live4christnetworks.com/event/starspot-season-2/
CATEGORIES:Past Events
END:VEVENT
BEGIN:VEVENT
DTSTART;TZID=America/New_York:20191127T180000
DTEND;TZID=America/New_York:20191130T220000
DTSTAMP:20260423T031953
CREATED:20190516T091621Z
LAST-MODIFIED:20200311T085859Z
UID:2771-1574877600-1575151200@live4christnetworks.com
SUMMARY:Rev. Dr. Mensa Otabil: Mega Fest of Grace USA Conference © 2019
DESCRIPTION:REV. DR. MENSA OTABIL LIVE IN USA Conference © 2019\n\n\nNOVEMBER 27TH – 30TH \n\n\nFREE ADMISSION🎫 FREE ADMISSION🎫\n\n\n➖\n\n\nEVENT DETAILS:\n\n\n⛪ HOST Ministry: End-Time Glory Church \n\n\n👥 HOST MINISTERS: Apostle Edwin & Pastor Hannah Otabil \n\n\n🗣️ MAIN SPEAKER: Rev. Dr. Mensa Otabil \n\n\n➖\n\n\nEVENT SCHEDULE :\n\n\nSchool of Grace Services 🗓\n\n\n⏰DAY 1: (Wednesday\, November 27th @ 6pm – 7pm)\n\n\n⏰DAY 2: (Thursday\, November 28th @ 6pm – 7pm)\n\n\n⏰DAY 3: (Friday\, November 29th @ 6pm – 7pm)\n\n\n⏰DAY 4: (Saturday\, November 30th @ 6pm – 7pm)\n\n\n \n\n\nMain Evening Services 🗓\n\n\n⏰DAY 1: (Wednesday\, November 27th @ 7pm – 10pm)\n\n\n⏰DAY 2: (Thursday\, November 28th @ 7pm – 10pm)\n\n\n⏰DAY 3: (Friday\, November 29th @ 7pm – 10pm)\n\n\n⏰DAY 4: (Saturday\, November 30th @ 7pm – 10pm)\n\n\n➖\n\n\nMEDIA COVERAGE:\n\n\nL4C MULTIMEDIA | Live 4 Christ Broadcasting Networks\n\n\nLISTEN TO SERVICES | ONLINE RADIO 📡\n\n\n🌐 Online: www.live4christnetworks.com/l4c-media/l4c-radio\n\n\n☎️ Listen on phone: 605-475-1764 \n\n\n🏤 Call Studio: 571-577-4471 📞\n\n\n⚡️ You can also listen on Tune-In Radio and Modern Ghana 🇬🇭 by Searching “Live 4 Christ Radio”\n\n\n➖\n\n\nLISTEN TO SERVICES | ONLINE TV 📡\n\n\n📹 Link 1: http://live4christnetworks.com/l4c-media/l4c-tv/\n\n\n📹 Link 2: https://www.youtube.com/c/L4CMultimedia/live \n\n\n📡 Facebook Live Broadcast: \n\n\nSearch “Live 4 Christ Multimedia Studios”\n\n\n➖\n\n\nCONTACT INFORMATION \n\n\nEvent Staff Directory 👥\n\n\n📞 Contact 1: +1-571-278-1216 (Cell/WhatsApp)\n\n\n📞 Contact 2: +1-571-278-1069 (Cell/WhatsApp)\n\n\n \n\n\nMedia Staff Directory 👥\n\n\n📞 Contact 1: +1-571-577-4471 (Office)\n\n\n📞 Contact 2: +1-571-251-9752 (Cell/WhatsApp)\n\n\n📩 Email: studio@live4christnetworks.com \n\n\n🌐 Web: www.live4christnetworks.com \n\n\n➖ \n\n\nMEDIA PARTNERS 🎬\n\n\nKhemical TV\n\n\nLOCATION: Kumasi\, Ghana 🇬🇭 \n\n\n📞 +233-24-026-4303 \n\n\n📩 khemical2@gmail.com\n\n\n🌎 www.Kmtvgh.com\n\n\nSubscribe: https://www.youtube.com/user/khemical2🚩 \n\n\n➖\n\n\nHope4life Radio\n\n\nLOCATION: Virginia\, USA 🇺🇸 \n\n\n📞 +1-571-278-6417\n\n\n☎ +1-703-445-5220\n\n\n🌎 http://hope4liferadio.com/\n\n\nSubscribe: https://www.youtube.com/channel/UCMfvWbtGQuCnDXqS8bq-_vQ🚩 \n\n\n➖\n\n\nSankofa Radio\n\n\nLOCATION: Dumfries\, USA 🇺🇸\n\n\n☎ Call Studio: 703-445-4014\n\n\n✉ info@sankofaradio.com\n\n\n🌎 http://sankofaradio.com/\n\n\nSubscribe: https://www.youtube.com/channel/UCMfvWbtGQuCnDXqS8bq-_vQ🚩\n\n\n➖\n\n\nThis Event is powered by @ L4C Multimedia © 2019\n\n\n#l4cmulti #l4cmultimedia #l4ctv #l4cnet #live4christnetworks\n\n\n\nShare this:Share\n				Share on Facebook (Opens in new window)\n				Facebook\n			\n				Share on X (Opens in new window)\n				X\n			\n				Share on LinkedIn (Opens in new window)\n				LinkedIn\n			\n				Share on Tumblr (Opens in new window)\n				Tumblr\n			\n				Email a link to a friend (Opens in new window)\n				Email
URL:https://live4christnetworks.com/event/otabilusa19/
LOCATION:Living Hope Assemblies of God Church\, 7956 Twist Lane \, Springfield\, VA\, 22153\, United States
CATEGORIES:Past Events
ATTACH;FMTTYPE=image/jpeg:https://live4christnetworks.com/wp-content/uploads/2019/05/Otabil-Main-Flyer-1.jpg
ORGANIZER;CN="L4C Events Team":MAILTO:stein@live4christnetworks.com
END:VEVENT
BEGIN:VEVENT
DTSTART;TZID=America/New_York:20191116T100000
DTEND;TZID=America/New_York:20200110T100000
DTSTAMP:20260423T031953
CREATED:20190604T100604Z
LAST-MODIFIED:20210302T053046Z
UID:2827-1573898400-1578650400@live4christnetworks.com
SUMMARY:StarSpot Season 1
DESCRIPTION:Share this:Share\n				Share on Facebook (Opens in new window)\n				Facebook\n			\n				Share on X (Opens in new window)\n				X\n			\n				Share on LinkedIn (Opens in new window)\n				LinkedIn\n			\n				Share on Tumblr (Opens in new window)\n				Tumblr\n			\n				Email a link to a friend (Opens in new window)\n				Email
URL:https://live4christnetworks.com/event/starspot-season-1/
LOCATION:KMTV-GHANA\, P.O.Box 499 Amakom\, Oforikrom\, Kumasi\, Ghana
CATEGORIES:Past Events,StarSpot Singing Competition
ATTACH;FMTTYPE=image/jpeg:https://live4christnetworks.com/wp-content/uploads/2019/06/StarSpot-Mobile-Logo.jpg
ORGANIZER;CN="L4C Events Team":MAILTO:stein@live4christnetworks.com
END:VEVENT
BEGIN:VEVENT
DTSTART;TZID=America/New_York:20170728T173000
DTEND;TZID=America/New_York:20170729T220000
DTSTAMP:20260423T031953
CREATED:20170705T045545Z
LAST-MODIFIED:20180102T052836Z
UID:2540-1501263000-1501365600@live4christnetworks.com
SUMMARY:Conference of Heirs "Annual Gathering"
DESCRIPTION:EVENT DETAILS:\n\n\n⏰ Fri\, July 28th – 29th @ 5:30pm (Each Day)\n\n\n🌎 2621 Prince William County Parkway – Woodbridge\, VA 22192\n\n\n☎️ Contacts: 571-398-9075 / 571-477-7029\n\n\n⛪️ Ministry: Kingdom Liberty Ministries Worldwide\n\n\n\n\nHosts: Pastor Emmanuel Nickson and First Lady Irene Opoku Nickson \n\n\n\nSpecial Guest Speaker: Dr. Oheneba Anyanim Boadum\n\n\n\n\n\n\n\n🎥🎥🎥  Live Broadcasting Coverage 📡 :\n\n\n🎬 Live 4 Christ Radio & TV 📻📺 \n\n\n🌎 Live 4 Christ Multimedia Studios 🎞\n\n\n📮 Contact: info@live4christnetworks.com\n\n\n☎️ Studio: (571) 577 – 4471 \n\n\n\n\n\n\n\nEVENT COVERAGE:\n\n\n🎥 Live 4 Christ Television 🎥\n\n\n🌎 Link: https://www.youtube.com/c/GOD4KBMinistriesL4C/live\n\n\n\n\n\n\n\n🗣SPONSORED BY: \n\n\nLive 4 Christ Networks Inc.\n\n\nwww.live4christnetworks.com\n\n\n\n\n\n\nShare this:Share\n				Share on Facebook (Opens in new window)\n				Facebook\n			\n				Share on X (Opens in new window)\n				X\n			\n				Share on LinkedIn (Opens in new window)\n				LinkedIn\n			\n				Share on Tumblr (Opens in new window)\n				Tumblr\n			\n				Email a link to a friend (Opens in new window)\n				Email
URL:https://live4christnetworks.com/event/conference-of-heirs-annual-gathering/
LOCATION:2621 Prince William Parkway \, Woodbridge\, VA\, 22192\, United States
CATEGORIES:Past Events
ATTACH;FMTTYPE=image/jpeg:https://live4christnetworks.com/wp-content/uploads/2017/07/nickson-l4cnet.jpg
ORGANIZER;CN="L4C Events Team":MAILTO:stein@live4christnetworks.com
END:VEVENT
BEGIN:VEVENT
DTSTART;TZID=America/New_York:20170617T173000
DTEND;TZID=America/New_York:20170617T213000
DTSTAMP:20260423T031953
CREATED:20161021T081048Z
LAST-MODIFIED:20170705T052145Z
UID:2439-1497720600-1497735000@live4christnetworks.com
SUMMARY:Dethroned: Overcoming The Enemy (2nd Gospel Album Launch - Rev. 12)
DESCRIPTION:By the mercies of God\, the LORD has once again spoken concerning Live 4 Christ Movement‘s Annual Celebration of Jesus Christ. The LORD has also blessed us with new songs and we are working hard on these songs to be released on Saturday\, June 17th\, 2017. This event will also be the 2nd Gospel Album Launching of Minister Stein KB Owusu. \n\n\n\n\n\n\n\nWe have given the enemy\, the evil one\, the devil\, satan\, the accuser of the brothers and sisters\, the great dragon and his angels (“agents”) authority and dominion over our lives for many years. \n\n\n \n\n\nNow have come the salvation and the power and the kingdom of our God\, and the authority of his Messiah. For the accuser of our brothers and sisters\, who accuses us before our God day and night\, has been hurled down. We triumphed over him by the blood of the Lamb and by the word of our testimony; We did not love our lives so much as to shrink from death. Therefore rejoice\, you heavens and you who dwell in them! But woe to the earth and the sea\, because the devil has gone down to you! He is filled with fury\, because he knows that his time is short.” \n\n\n \n\n\n\n\n\n\n\nCHRIST MINISTRY:\n\n\nLive 4 Christ Movement & Live 4 Christ Networks\n\n\nGOD 4 KB Ministries\nLive 4 Christ Multimedia Studios\n\n\n\n\n\n\n\nANNUAL CONFERENCE:\n\n\n– Live 4 Christ Annual Celebration of Jesus Christ \n\n\n– 2nd Album Launch of Minister Stein KB Owusu\n\n\n– L4C2K17\n\n\n\n\n\n\n\nTHEME:\n\n\nThe dragon with his angels has been thrown down.\n\n\nRevelations 12\n\n\n\n\n\n\n\nDATE & TIME:\n\n\nSat\, June 17th\, 2016\n\n\n5:30PM\n\n\n\n\n\n\n\nVENUE:\n\n\nBreakthrough Evangelistic\n\n\n12904 Occoquan Road\n\n\nWoodbridge\, VA 22192\n\n\n\n\n\n\n\nRATE:\n\n\nFree Admission\n\n\n\n\n\n\n\nFACEBOOK EVENT:\n\n\nhttps://www.facebook.com/events/1745639615683594/\n\n\n\n\n\n\n\nPARTNERS & SPONSORS:\n\n\nBreakthrough Evangelist Ministries\n\n\nPossessors Youth Outreach Ministries\n\n\nYouth Under His Glory\n\n\nMega Impact\n\n\n13 Hour Prayer Ministry\n\n\n\n\n\n\n\nWe are currently looking for sponsors and supporters. If you would like to be a part of this year’s annual event\, form a relationship or partnership with Christ and His ministry\, please contact us at the following: \n\n\n\nCONTACTS:\nLive4Christ_nova@yahoo.com\nGOD4kbministries@yahoo.com\nwww.live4christnetworks.com\n571-251-9752\n\n\n\n\n\n\n\n*** ONCE SAVED\, FOREVER FREE ***\n\nShare this:Share\n				Share on Facebook (Opens in new window)\n				Facebook\n			\n				Share on X (Opens in new window)\n				X\n			\n				Share on LinkedIn (Opens in new window)\n				LinkedIn\n			\n				Share on Tumblr (Opens in new window)\n				Tumblr\n			\n				Email a link to a friend (Opens in new window)\n				Email
URL:https://live4christnetworks.com/event/dethroned-overcoming-the-enemy-2nd-gospel-album-launch-rev-12/
LOCATION:Breakthrough Evangelistic Ministries International\, 12904 Occoquan Road \, Woodbridge\, VA\, 22192\, United States
CATEGORIES:Past Events
ATTACH;FMTTYPE=image/jpeg:https://live4christnetworks.com/wp-content/uploads/2016/10/L4C2K17-ConcA.jpg
ORGANIZER;CN="L4C Events Team":MAILTO:stein@live4christnetworks.com
END:VEVENT
BEGIN:VEVENT
DTSTART;TZID=America/New_York:20161224T190000
DTEND;TZID=America/New_York:20161224T220000
DTSTAMP:20260423T031953
CREATED:20161212T200953Z
LAST-MODIFIED:20170705T052119Z
UID:2474-1482606000-1482616800@live4christnetworks.com
SUMMARY:Christmas Carol with COP Richmond
DESCRIPTION:Join minister Stein KB Owusu of GOD 4 KB Ministries and Live 4 Christ Networks at The church of Pentecost in Richmond\, Virginia for a wonderful time of spirit-filled worship and high praises unto The Most High God. Many other ministers and vessels of God will also be at this event. Come ready to expereince God in glorious and magnificent way. Please refer to the flyer for more details. God is glorified\, Amen!\n\n\n \n\n\nShare this:Share\n				Share on Facebook (Opens in new window)\n				Facebook\n			\n				Share on X (Opens in new window)\n				X\n			\n				Share on LinkedIn (Opens in new window)\n				LinkedIn\n			\n				Share on Tumblr (Opens in new window)\n				Tumblr\n			\n				Email a link to a friend (Opens in new window)\n				Email
URL:https://live4christnetworks.com/event/christmas-carol-with-cop-richmond/
LOCATION:The Church of Pentecost (Richmond District)\, 120 Wyck St \, Richmond\, Virginia\, 23225\, United States
CATEGORIES:Past Events
ATTACH;FMTTYPE=image/jpeg:https://live4christnetworks.com/wp-content/uploads/2016/12/Stein-Rich.jpg
ORGANIZER;CN="L4C Events Team":MAILTO:stein@live4christnetworks.com
END:VEVENT
BEGIN:VEVENT
DTSTART;TZID=America/New_York:20161216T190000
DTEND;TZID=America/New_York:20161217T000000
DTSTAMP:20260423T031953
CREATED:20161026T073324Z
LAST-MODIFIED:20170705T052046Z
UID:2459-1481914800-1481932800@live4christnetworks.com
SUMMARY:Mega Impact End of Year Prayer and Worship Night
DESCRIPTION:Join us for this year’s Mega Impact Prayer and Worship Night. Come with your all your burdens and have an expectation to encounter The Savior Jesus Christ. Remember to share this event with your friends and family. Go bless you!\n\n\n\n\n\n\n\nCHRIST MINISTRY:\n\n\nMega Impact America\n\n\n\n\n\n\n\nEVENT:\n\n\nMega Impact End of Year Prayer And Worship Night\n\n\n\n\n\n\n\nTHEME:\n\n\nAnd the LORD said\, I will shake the heavens and earth.\n\n\nHaggai 2:6-7\n\n\n\n\n\n\n\nDATE & TIME:\n\n\nFri\, December 16th\, 2016\n\n\n7pm\n\n\n\n\n\n\n\nVENUE:\n\n\nBreakthrough Evangelistic\n\n\n12904 Occoquan Road\n\n\nWoodbridge\, VA 22191\n\n\n\n\n\n\n\nRATE:\n\n\nFree Admission\n\n\n\n\nFACEBOOK EVENT:\nhttps://www.facebook.com/events/1810236902541391/\n\n\n\n\n\n\n*** CAN’T AFFORD TO MISS OUT…SEE YOU SOON!!! ***\n\nShare this:Share\n				Share on Facebook (Opens in new window)\n				Facebook\n			\n				Share on X (Opens in new window)\n				X\n			\n				Share on LinkedIn (Opens in new window)\n				LinkedIn\n			\n				Share on Tumblr (Opens in new window)\n				Tumblr\n			\n				Email a link to a friend (Opens in new window)\n				Email
URL:https://live4christnetworks.com/event/mega-impact-end-of-year-prayer-and-worship-night/
LOCATION:Breakthrough Evangelistic Ministries International\, 12904 Occoquan Road \, Woodbridge\, VA\, 22192\, United States
CATEGORIES:Past Events
ATTACH;FMTTYPE=image/jpeg:https://live4christnetworks.com/wp-content/uploads/2016/10/Upcoming-Event-Mega-Impact.jpg
ORGANIZER;CN="L4C Events Team":MAILTO:stein@live4christnetworks.com
END:VEVENT
BEGIN:VEVENT
DTSTART;TZID=America/New_York:20161117T190000
DTEND;TZID=America/New_York:20161120T130000
DTSTAMP:20260423T031953
CREATED:20161021T084659Z
LAST-MODIFIED:20161214T104344Z
UID:2442-1479409200-1479646800@live4christnetworks.com
SUMMARY:Gathering of the Generals 2016
DESCRIPTION:Hello Beloved\, your Breakthrough Evangelistic Ministries International Family cordially invites you to our Annual Revival “The Gathering of the Generals“. We are expecting another great move of The Holy Spirit and don’t want you to miss out. Remember to invite a friend and love one so\, they can also be in attendance and receive their blessing also. The Saturday night of this conference weekend will be a Mega Gospel Explosion where God will use His ministers to be blessing unto us all. Read the rest of the information for more details. God be glorified!\n\n\n\n\n\n\nCHRIST MINISTRY:\nBreakthrough Evangelistic Ministries International (Virginia Branch)\n\n\n\n\n\n\n\nANNUAL CONFERENCE:\nGOG: Moving to the next level 2016\n\n\n\n\n\n\n\nDATE & TIME & SCHEDULE:\nThursday\, November 17th @ 7PM (Revival)\nFriday\, November 18th @ 7PM (Revival)\nSaturday\, November 19th @ 7PM (Revival / Musical Concert)\nSunday\, November 20th @ 10AM (Revival)\n\n\n\n\n\n\n\nVENUE:\n\n\nBreakthrough Evangelistic\n\n\n12904 Occoquan Road\n\n\nWoodbridge\, VA 22192\n\n\n\n\n\n\n\nRATE:\n\n\nFree Admission\n\n\n\n\n\nHOST:\nPastor Thomas Ofosuhene & First Lady Afua Ofosuhene\n\nGUEST SPEAKER:\nRev. Oheneba Anyani-Boadum\n\nGUEST ARTISTS:\nBernice Acheampong\nCisca Etse\n\nHOST CHOIR/BAND:\nBEMI Choir\n\n\n\n\n\nFACEBOOK EVENT:\n\n\nhttps://www.facebook.com/events/1745639615683594/\n\n\n\n\n\n\n\nCONTACT:\nbemitech@yahoo.com\n(571) 564-2203\n\n\n\n\n\n\n\n*** COME & BE BLESSED IN THE NAME OF JESUS!!! ***\n\nShare this:Share\n				Share on Facebook (Opens in new window)\n				Facebook\n			\n				Share on X (Opens in new window)\n				X\n			\n				Share on LinkedIn (Opens in new window)\n				LinkedIn\n			\n				Share on Tumblr (Opens in new window)\n				Tumblr\n			\n				Email a link to a friend (Opens in new window)\n				Email
URL:https://live4christnetworks.com/event/gathering-of-the-generals-2016/
LOCATION:Breakthrough Evangelistic Ministries International\, 12904 Occoquan Road \, Woodbridge\, VA\, 22192\, United States
CATEGORIES:Past Events
ATTACH;FMTTYPE=image/jpeg:https://live4christnetworks.com/wp-content/uploads/2016/10/Upcoming-BEMI-Generals.jpg
ORGANIZER;CN="L4C Events Team":MAILTO:stein@live4christnetworks.com
END:VEVENT
BEGIN:VEVENT
DTSTART;TZID=America/New_York:20160716T180000
DTEND;TZID=America/New_York:20160716T220000
DTSTAMP:20260423T031953
CREATED:20160211T205422Z
LAST-MODIFIED:20160718T090300Z
UID:1652-1468692000-1468706400@live4christnetworks.com
SUMMARY:HERES ASSEMBLY: LORD\, shew me thy glory
DESCRIPTION:Join us for the Annual Conference of Possessors Youth Outreach Ministries. The LORD is ready to empower the youth of our generation and lift them up for His greater glory. Can’t afford to miss out…See you!\n\n\n\n\n\n\n\n\nJESUS CHRIST MINISTRY:\n\n\nPossessors Youth Outreach Ministries\n\n\n\n\n\n\n\nANNUAL CONFERENCE:\n\n\nHeres Assembly\n\n\n\n\n\n\n\nTHEME:\n\n\nLORD\, shew me thy glory\n\n\nExodus 33:18\n\n\n\n\n\n\n\nDATE & TIME:\n\n\nSat\, July 16th\, 2016\n\n\n6pm – 10pm\n\n\n\n\n\n\n\nVENUE:\n\n\n7956 Twist Lane\n\n\nSpringfield\, VA 22153\n\n\n\n\n\n\n\nRATE:\n\n\nFree Admission\n\n\n\n\n\n\n\nFACEBOOK-EVENT:\n\n\nhttps://www.facebook.com/events/1303857669639725/\n\n\n\n\n\n\n\n*** CAN’T AFFORD TO MISS OUT…SEE YOU SOON ***\n\nShare this:Share\n				Share on Facebook (Opens in new window)\n				Facebook\n			\n				Share on X (Opens in new window)\n				X\n			\n				Share on LinkedIn (Opens in new window)\n				LinkedIn\n			\n				Share on Tumblr (Opens in new window)\n				Tumblr\n			\n				Email a link to a friend (Opens in new window)\n				Email
URL:https://live4christnetworks.com/event/heres-assembly-lord-shew-me-thy-glory/
LOCATION:Living Hope Assemblies of God Church\, 7956 Twist Lane \, Springfield\, VA\, 22153\, United States
CATEGORIES:Past Events
ATTACH;FMTTYPE=image/jpeg:https://live4christnetworks.com/wp-content/uploads/2016/02/POM-flyer-1.jpg
ORGANIZER;CN="L4C Events Team":MAILTO:stein@live4christnetworks.com
END:VEVENT
BEGIN:VEVENT
DTSTART;TZID=America/New_York:20160618T183000
DTEND;TZID=America/New_York:20160618T220000
DTSTAMP:20260423T031953
CREATED:20160126T003350Z
LAST-MODIFIED:20160622T050142Z
UID:1618-1466274600-1466287200@live4christnetworks.com
SUMMARY:L4C 2K16: The Horn of His Salvation
DESCRIPTION:By God’s grace this year will officially be the 6th Year Anniversary of Live 4 Christ Networks. For this year’s Live 4 Christ Movement‘s Annual Event\, the LORD is leading us towards the direction of total liberation and divine empowerment to remain strong and steadfast in Him. Let us come together to seek the LORD while He may be found; call on Him while He is near. Let the wicked forsake their ways and the unrighteous their thoughts. Let us all turn to the Jesus Christ\, and He will have mercy on us\, and to our God\, for He will freely pardon.\n \n\n\n\nEVENT: THE HORN OF HIS SALVATION\nDATE: Saturday\, June 18th\, 2016\nTIME: 6:30PM – 9:30PM\nVENUE: 12904 Occoquan Road – Woodbridge\, VA 22192\nMAIN SCRIPTURE: “He has raised up a horn of salvation for us\n in the house of his servant David.” – (Luke 1:69) \n\n\n\nHOST: Live 4 Christ Movement Live 4 Christ Networks\n\n\nSUPPORTING PASTOR: Thomas Ofosuhene \n\n\nSUPPORTING CHURCH: Breakthrough Evangelistic Ministries International\n\n\nSPECIAL GUEST MINISTERS:\n– Prophet Abraham Nadutey\nPure Worship Evangelistic Ministry  \n\n– Prophète Eugène Ejiba\nProphetic Moment\n\n– Minister Greg Redden\nSpecial Guest Speaker\n\n– Mrs. Tiffany BeingRevealed Redden\nSpecial Guest Speaker\n\n– Brother King Ohene Amponsem\n13 Hour Prayer Ministry\n\n– T.B.O (The Best Out)\nSpecial Ministration\n\n– Theodosia Ampofowah\nSpecial Ministration\n\n– Francisca Etse\nSpecial Ministration \n\n\n\n\n68 “Praise be to the Lord\, the God of Israel\,\n because he has come to his people and redeemed them.\n69 He has raised up a horn of salvation for us\n in the house of his servant David\n70 (as he said through his holy prophets of long ago)\,\n71 salvation from our enemies\n and from the hand of all who hate us—\n72 to show mercy to our ancestors\n and to remember his holy covenant\,\n73 the oath he swore to our father Abraham:\n74 to rescue us from the hand of our enemies\,\n and to enable us to serve him without fear\n75 in holiness and righteousness before him all our days.\n76 And you\, my child\, will be called a prophet of the Most High;\n for you will go on before the Lord to prepare the way for him\,\n77 to give his people the knowledge of salvation\n through the forgiveness of their sins\,\n78 because of the tender mercy of our God\,\n by which the rising sun will come to us from heaven\n79 to shine on those living in darkness\n and in the shadow of death\,\nto guide our feet into the path of peace.”\n80 And the child grew and became strong in spirit[d]; and he lived in the wilderness until he appeared publicly to Israel.\n\n\n\nSCRIPTURES OF FOCUS:\n– Luke 1\n– Isaiah 55\n– Matthew 5\n– Etc…\n\n\n\nIf you would like to be a part of this year’s annual event\, form a relationship or partnership with Christ and His ministry\, please contact us at the following:\n \nCONTACTS:\nLive4Christ_nova@yahoo.com\nGOD4kbministries@yahoo.com\nwww.live4christnetworks.com\n\n  \n\n\n**** God bless you all in Jesus Mighty Name\, Amen!!! ****\nShare this:Share\n				Share on Facebook (Opens in new window)\n				Facebook\n			\n				Share on X (Opens in new window)\n				X\n			\n				Share on LinkedIn (Opens in new window)\n				LinkedIn\n			\n				Share on Tumblr (Opens in new window)\n				Tumblr\n			\n				Email a link to a friend (Opens in new window)\n				Email
URL:https://live4christnetworks.com/event/l4c-2k16-the-horn-of-salvation/
LOCATION:Breakthrough Evangelistic Ministries International\, 12904 Occoquan Road \, Woodbridge\, VA\, 22192\, United States
CATEGORIES:Past Events
ATTACH;FMTTYPE=image/jpeg:https://live4christnetworks.com/wp-content/uploads/2016/01/L4C2K16-Flyer.jpg
ORGANIZER;CN="L4C Events Team":MAILTO:stein@live4christnetworks.com
END:VEVENT
BEGIN:VEVENT
DTSTART;TZID=America/New_York:20160604T180000
DTEND;TZID=America/New_York:20160612T150000
DTSTAMP:20260423T031953
CREATED:20160403T234803Z
LAST-MODIFIED:20160622T050106Z
UID:2190-1465063200-1465743600@live4christnetworks.com
SUMMARY:BEMI: Gospel Concert (10th Year Anniversary)
DESCRIPTION:Join Breakthrough Evangelistic for our 10th Year Anniversary as we honor and remember the good deeds of the LORD toward us. We will be holding a series of events through the month of May until June. We warmly welcome you to join us in fellowship and in celebration as we exalt and lift the name of our LORD. We know that through this Breakthrough Season\, you shall also receive your breakthrough as you join us in one accord. Please\, help spread the news and let name of our Holy LORD be glorified in all the ends of this world. We know we will see you at all our Breakthrough Season Events…God bless you!\n\n\n \n\n\n\n\n\n\n\nJESUS CHRIST MINISTRY:\n\n\nBreakthrough Evangelistic Ministries International\n\n\n\n\n\n\n\n10TH YEAR ANNIVERSARY CELEBRATION:\n\n\nA fulfilling season of the celebration of Jesus Christ and His body; remembering how far the LORD has brought His ministry and His people.\n\n\n\n\n\n\n\nTHEME:\n\n\nThus far the LORD has brought us\n\n\n1 Samuel 7:12\n\n\n\n\n\n\n\nSCHEDULE OF EVENTS:\n\n\nEVENT #1:\n\n\nHealth Awareness Day\n\n\nSaturday\, May 14th\, 2016\n\n\n10AM – 6PM\n\n\nVENUE: BEMI Facility\n\n\n \n\n\nEVENT #2:\n\n\n3 Day Revival\n\n\nFriday\, May 20th\, 2016 (6PM – 9PM) \n\n\nSaturday\, May 21st 2016 (6PM – 9PM) \n\n\nSunday\, May 22nd\, 2016 (10AM – 1PM)\n\n\nVENUE: BEMI Facility\n\n\n \n\n\nEVENT #3:\n\n\nMega Gospel Explosion\n\n\nSaturday\, June 4th\, 2016\n\n\n6PM – 10PM\n\n\nVENUE: BEMI Facility\n\n\n \n\n\nEVENT #4:\n\n\nDinner Dance & Awards Night\n\n\nSaturday\, June 11th\, 2016\n\n\n6PM – 10PM\n\n\nVENUE: Crowne Plaza Old Town\n\n\n \n\n\nEVENT #5:\n\n\nMain Anniversary & Thanksgiving Service\n\n\nSunday\, June 12th\, 2016\n\n\n12PM – 3PM\n\n\nVENUE: BEMI Facility\n\n\n\n\n\n\n\nMAIN VENUE (BEMI Facility):\n\n\n12904 Occoquan Rd\n\n\nWoodbridge\, Virginia 22192\n\n\n \n\n\nDINNER DANCE VENUE:\n\n\nCrowne Plaza Old Town\n901 North Fairfax Street\nAlexandria\, VA 22314\n\n\n\n\n\n\n\n\nRATE:\n\n\nFree Admission\n\n\n\n\n\n\n\n\nFACEBOOK-EVENT:\n\n https://www.facebook.com/events/210431209346272/\n\n\n\n\n\n\n\n*** SEE YOU AT OUR UPCOMING EVENTS ***\n\nShare this:Share\n				Share on Facebook (Opens in new window)\n				Facebook\n			\n				Share on X (Opens in new window)\n				X\n			\n				Share on LinkedIn (Opens in new window)\n				LinkedIn\n			\n				Share on Tumblr (Opens in new window)\n				Tumblr\n			\n				Email a link to a friend (Opens in new window)\n				Email
URL:https://live4christnetworks.com/event/bemi-10th-year-anniversary/
LOCATION:Breakthrough Evangelistic Ministries International\, 12904 Occoquan Road \, Woodbridge\, VA\, 22192\, United States
CATEGORIES:Past Events
ATTACH;FMTTYPE=image/jpeg:https://live4christnetworks.com/wp-content/uploads/2016/04/13245501_1028834760524174_4789061573824603382_n.jpg
ORGANIZER;CN="L4C Events Team":MAILTO:stein@live4christnetworks.com
END:VEVENT
END:VCALENDAR