BEGIN:VCALENDAR
VERSION:2.0
PRODID:-//Live 4 Christ Networks - ECPv6.15.20//NONSGML v1.0//EN
CALSCALE:GREGORIAN
METHOD:PUBLISH
X-WR-CALNAME:Live 4 Christ Networks
X-ORIGINAL-URL:https://live4christnetworks.com
X-WR-CALDESC:Events for Live 4 Christ Networks
REFRESH-INTERVAL;VALUE=DURATION:PT1H
X-Robots-Tag:noindex
X-PUBLISHED-TTL:PT1H
BEGIN:VTIMEZONE
TZID:America/New_York
BEGIN:DAYLIGHT
TZOFFSETFROM:-0500
TZOFFSETTO:-0400
TZNAME:EDT
DTSTART:20150308T070000
END:DAYLIGHT
BEGIN:STANDARD
TZOFFSETFROM:-0400
TZOFFSETTO:-0500
TZNAME:EST
DTSTART:20151101T060000
END:STANDARD
BEGIN:DAYLIGHT
TZOFFSETFROM:-0500
TZOFFSETTO:-0400
TZNAME:EDT
DTSTART:20160313T070000
END:DAYLIGHT
BEGIN:STANDARD
TZOFFSETFROM:-0400
TZOFFSETTO:-0500
TZNAME:EST
DTSTART:20161106T060000
END:STANDARD
BEGIN:DAYLIGHT
TZOFFSETFROM:-0500
TZOFFSETTO:-0400
TZNAME:EDT
DTSTART:20170312T070000
END:DAYLIGHT
BEGIN:STANDARD
TZOFFSETFROM:-0400
TZOFFSETTO:-0500
TZNAME:EST
DTSTART:20171105T060000
END:STANDARD
END:VTIMEZONE
BEGIN:VEVENT
DTSTART;TZID=America/New_York:20160604T180000
DTEND;TZID=America/New_York:20160612T150000
DTSTAMP:20260423T044913
CREATED:20160403T234803Z
LAST-MODIFIED:20160622T050106Z
UID:2190-1465063200-1465743600@live4christnetworks.com
SUMMARY:BEMI: Gospel Concert (10th Year Anniversary)
DESCRIPTION:Join Breakthrough Evangelistic for our 10th Year Anniversary as we honor and remember the good deeds of the LORD toward us. We will be holding a series of events through the month of May until June. We warmly welcome you to join us in fellowship and in celebration as we exalt and lift the name of our LORD. We know that through this Breakthrough Season\, you shall also receive your breakthrough as you join us in one accord. Please\, help spread the news and let name of our Holy LORD be glorified in all the ends of this world. We know we will see you at all our Breakthrough Season Events…God bless you!\n\n\n \n\n\n\n\n\n\n\nJESUS CHRIST MINISTRY:\n\n\nBreakthrough Evangelistic Ministries International\n\n\n\n\n\n\n\n10TH YEAR ANNIVERSARY CELEBRATION:\n\n\nA fulfilling season of the celebration of Jesus Christ and His body; remembering how far the LORD has brought His ministry and His people.\n\n\n\n\n\n\n\nTHEME:\n\n\nThus far the LORD has brought us\n\n\n1 Samuel 7:12\n\n\n\n\n\n\n\nSCHEDULE OF EVENTS:\n\n\nEVENT #1:\n\n\nHealth Awareness Day\n\n\nSaturday\, May 14th\, 2016\n\n\n10AM – 6PM\n\n\nVENUE: BEMI Facility\n\n\n \n\n\nEVENT #2:\n\n\n3 Day Revival\n\n\nFriday\, May 20th\, 2016 (6PM – 9PM) \n\n\nSaturday\, May 21st 2016 (6PM – 9PM) \n\n\nSunday\, May 22nd\, 2016 (10AM – 1PM)\n\n\nVENUE: BEMI Facility\n\n\n \n\n\nEVENT #3:\n\n\nMega Gospel Explosion\n\n\nSaturday\, June 4th\, 2016\n\n\n6PM – 10PM\n\n\nVENUE: BEMI Facility\n\n\n \n\n\nEVENT #4:\n\n\nDinner Dance & Awards Night\n\n\nSaturday\, June 11th\, 2016\n\n\n6PM – 10PM\n\n\nVENUE: Crowne Plaza Old Town\n\n\n \n\n\nEVENT #5:\n\n\nMain Anniversary & Thanksgiving Service\n\n\nSunday\, June 12th\, 2016\n\n\n12PM – 3PM\n\n\nVENUE: BEMI Facility\n\n\n\n\n\n\n\nMAIN VENUE (BEMI Facility):\n\n\n12904 Occoquan Rd\n\n\nWoodbridge\, Virginia 22192\n\n\n \n\n\nDINNER DANCE VENUE:\n\n\nCrowne Plaza Old Town\n901 North Fairfax Street\nAlexandria\, VA 22314\n\n\n\n\n\n\n\n\nRATE:\n\n\nFree Admission\n\n\n\n\n\n\n\n\nFACEBOOK-EVENT:\n\n https://www.facebook.com/events/210431209346272/\n\n\n\n\n\n\n\n*** SEE YOU AT OUR UPCOMING EVENTS ***\n\nShare this:Share\n				Share on Facebook (Opens in new window)\n				Facebook\n			\n				Share on X (Opens in new window)\n				X\n			\n				Share on LinkedIn (Opens in new window)\n				LinkedIn\n			\n				Share on Tumblr (Opens in new window)\n				Tumblr\n			\n				Email a link to a friend (Opens in new window)\n				Email
URL:https://live4christnetworks.com/event/bemi-10th-year-anniversary/
LOCATION:Breakthrough Evangelistic Ministries International\, 12904 Occoquan Road \, Woodbridge\, VA\, 22192\, United States
CATEGORIES:Past Events
ATTACH;FMTTYPE=image/jpeg:https://live4christnetworks.com/wp-content/uploads/2016/04/13245501_1028834760524174_4789061573824603382_n.jpg
ORGANIZER;CN="L4C Events Team":MAILTO:stein@live4christnetworks.com
END:VEVENT
END:VCALENDAR